BEGIN:VCALENDAR
VERSION:2.0
PRODID:-//BiosHealth - ECPv6.15.20//NONSGML v1.0//EN
CALSCALE:GREGORIAN
METHOD:PUBLISH
X-WR-CALNAME:BiosHealth
X-ORIGINAL-URL:https://bios-homehealth.com
X-WR-CALDESC:Events for BiosHealth
REFRESH-INTERVAL;VALUE=DURATION:PT1H
X-Robots-Tag:noindex
X-PUBLISHED-TTL:PT1H
BEGIN:VTIMEZONE
TZID:America/Chicago
BEGIN:DAYLIGHT
TZOFFSETFROM:-0600
TZOFFSETTO:-0500
TZNAME:CDT
DTSTART:20180311T080000
END:DAYLIGHT
BEGIN:STANDARD
TZOFFSETFROM:-0500
TZOFFSETTO:-0600
TZNAME:CST
DTSTART:20181104T070000
END:STANDARD
BEGIN:DAYLIGHT
TZOFFSETFROM:-0600
TZOFFSETTO:-0500
TZNAME:CDT
DTSTART:20190310T080000
END:DAYLIGHT
BEGIN:STANDARD
TZOFFSETFROM:-0500
TZOFFSETTO:-0600
TZNAME:CST
DTSTART:20191103T070000
END:STANDARD
BEGIN:DAYLIGHT
TZOFFSETFROM:-0600
TZOFFSETTO:-0500
TZNAME:CDT
DTSTART:20200308T080000
END:DAYLIGHT
BEGIN:STANDARD
TZOFFSETFROM:-0500
TZOFFSETTO:-0600
TZNAME:CST
DTSTART:20201101T070000
END:STANDARD
END:VTIMEZONE
BEGIN:VEVENT
DTSTART;TZID=America/Chicago:20190508T170000
DTEND;TZID=America/Chicago:20190508T170000
DTSTAMP:20260420T084205
CREATED:20181217T051113Z
LAST-MODIFIED:20190408T144934Z
UID:522-1557334800-1557334800@bios-homehealth.com
SUMMARY:BiosHealth All-Employee Meeting (Bartlesville)
DESCRIPTION:
URL:https://bios-homehealth.com/event/bioshealth-all-employee-meeting-bartlesville-050819/
LOCATION:TBA
CATEGORIES:Meeting
ORGANIZER;CN="Kendyll Miller":MAILTO:kmiller@bioscorp.com
END:VEVENT
BEGIN:VEVENT
DTSTART;TZID=America/Chicago:20190508T170000
DTEND;TZID=America/Chicago:20190508T170000
DTSTAMP:20260420T084205
CREATED:20181217T050058Z
LAST-MODIFIED:20181218T200414Z
UID:519-1557334800-1557334800@bios-homehealth.com
SUMMARY:BiosHealth All-Employee Meeting (Tulsa)
DESCRIPTION:
URL:https://bios-homehealth.com/event/bioshealth-all-employee-meeting-tulsa-050819/
LOCATION:Glenpool Community Center\, 12205 South Yukon Avenue\, Glenpool\, OK\, 74033
CATEGORIES:Meeting
ORGANIZER;CN="Kendyll Miller":MAILTO:kmiller@bioscorp.com
END:VEVENT
BEGIN:VEVENT
DTSTART;TZID=America/Chicago:20190405T173000
DTEND;TZID=America/Chicago:20190405T173000
DTSTAMP:20260420T084205
CREATED:20181218T172720Z
LAST-MODIFIED:20181218T172720Z
UID:526-1554485400-1554485400@bios-homehealth.com
SUMMARY:10-Year Employees Party (OK)
DESCRIPTION:Ten-year employees in Oklahoma will be recognized. This event is by invitation only. Email Kendyll Miller at kmiller@bioscorp.com for more information.
URL:https://bios-homehealth.com/event/10-year-employees-party-ok-040519/
LOCATION:TBD
CATEGORIES:Recognition Event
ORGANIZER;CN="Kendyll Miller":MAILTO:kmiller@bioscorp.com
END:VEVENT
BEGIN:VEVENT
DTSTART;TZID=America/Chicago:20190129T120000
DTEND;TZID=America/Chicago:20190129T160000
DTSTAMP:20260420T084205
CREATED:20181217T045201Z
LAST-MODIFIED:20181218T195805Z
UID:516-1548763200-1548777600@bios-homehealth.com
SUMMARY:BiosHealth Weekly Orientation (Bartlesville)
DESCRIPTION:This event takes place every Tuesday at the BiosHealth area offices. Email Audrey Miller at amiller@bioscorp.com for more information.
URL:https://bios-homehealth.com/event/bioshealth-weekly-orientation-bartlesville-012919/
LOCATION:BiosHealth Office (Bartlesville)\, 1370 Southeast Washington Boulevard\, Bartlesville\, OK\, 74066
CATEGORIES:Orientation
ORGANIZER;CN="Audrey Miller":MAILTO:amiller@bioscorp.com
END:VEVENT
BEGIN:VEVENT
DTSTART;TZID=America/Chicago:20190129T120000
DTEND;TZID=America/Chicago:20190129T160000
DTSTAMP:20260420T084205
CREATED:20181217T044442Z
LAST-MODIFIED:20181218T195716Z
UID:511-1548763200-1548777600@bios-homehealth.com
SUMMARY:BiosHealth Weekly Orientation (Tulsa)
DESCRIPTION:This event takes place every Tuesday at the BiosHealth area offices. Email Audrey Miller at amiller@bioscorp.com for more information.
URL:https://bios-homehealth.com/event/bioshealth-weekly-orientation-tulsa-012919/
LOCATION:BiosHealth Office (Tulsa Metro Area)\, 309 East Dewey Avenue\, Sapulpa\, OK\, 74066
CATEGORIES:Orientation
ORGANIZER;CN="Audrey Miller":MAILTO:amiller@bioscorp.com
END:VEVENT
BEGIN:VEVENT
DTSTART;TZID=America/Chicago:20190122T120000
DTEND;TZID=America/Chicago:20190122T160000
DTSTAMP:20260420T084205
CREATED:20181217T045112Z
LAST-MODIFIED:20181218T195811Z
UID:515-1548158400-1548172800@bios-homehealth.com
SUMMARY:BiosHealth Weekly Orientation (Bartlesville)
DESCRIPTION:This event takes place every Tuesday at the BiosHealth area offices. Email Audrey Miller at amiller@bioscorp.com for more information.
URL:https://bios-homehealth.com/event/bioshealth-weekly-orientation-bartlesville-012219/
LOCATION:BiosHealth Office (Bartlesville)\, 1370 Southeast Washington Boulevard\, Bartlesville\, OK\, 74066
CATEGORIES:Orientation
ORGANIZER;CN="Audrey Miller":MAILTO:amiller@bioscorp.com
END:VEVENT
BEGIN:VEVENT
DTSTART;TZID=America/Chicago:20190122T120000
DTEND;TZID=America/Chicago:20190122T160000
DTSTAMP:20260420T084205
CREATED:20181217T044326Z
LAST-MODIFIED:20181218T195706Z
UID:510-1548158400-1548172800@bios-homehealth.com
SUMMARY:BiosHealth Weekly Orientation (Tulsa)
DESCRIPTION:This event takes place every Tuesday at the BiosHealth area offices. Email Audrey Miller at amiller@bioscorp.com for more information.
URL:https://bios-homehealth.com/event/bioshealth-weekly-orientation-tulsa-012219/
LOCATION:BiosHealth Office (Tulsa Metro Area)\, 309 East Dewey Avenue\, Sapulpa\, OK\, 74066
CATEGORIES:Orientation
ORGANIZER;CN="Audrey Miller":MAILTO:amiller@bioscorp.com
END:VEVENT
BEGIN:VEVENT
DTSTART;TZID=America/Chicago:20190115T120000
DTEND;TZID=America/Chicago:20190115T160000
DTSTAMP:20260420T084205
CREATED:20181217T044940Z
LAST-MODIFIED:20181218T195817Z
UID:514-1547553600-1547568000@bios-homehealth.com
SUMMARY:BiosHealth Weekly Orientation (Bartlesville)
DESCRIPTION:This event takes place every Tuesday at the BiosHealth area offices. Email Audrey Miller at amiller@bioscorp.com for more information.
URL:https://bios-homehealth.com/event/bioshealth-weekly-orientation-bartlesville-011519/
LOCATION:BiosHealth Office (Bartlesville)\, 1370 Southeast Washington Boulevard\, Bartlesville\, OK\, 74066
CATEGORIES:Orientation
ORGANIZER;CN="Audrey Miller":MAILTO:amiller@bioscorp.com
END:VEVENT
BEGIN:VEVENT
DTSTART;TZID=America/Chicago:20190115T120000
DTEND;TZID=America/Chicago:20190115T160000
DTSTAMP:20260420T084205
CREATED:20181217T044153Z
LAST-MODIFIED:20181218T195656Z
UID:509-1547553600-1547568000@bios-homehealth.com
SUMMARY:BiosHealth Weekly Orientation (Tulsa)
DESCRIPTION:This event takes place every Tuesday at the BiosHealth area offices. Email Audrey Miller at amiller@bioscorp.com for more information.
URL:https://bios-homehealth.com/event/bioshealth-weekly-orientation-tulsa-011519/
LOCATION:BiosHealth Office (Tulsa Metro Area)\, 309 East Dewey Avenue\, Sapulpa\, OK\, 74066
CATEGORIES:Orientation
ORGANIZER;CN="Audrey Miller":MAILTO:amiller@bioscorp.com
END:VEVENT
BEGIN:VEVENT
DTSTART;TZID=America/Chicago:20190109T170000
DTEND;TZID=America/Chicago:20190109T170000
DTSTAMP:20260420T084205
CREATED:20181217T050617Z
LAST-MODIFIED:20181218T195841Z
UID:520-1547053200-1547053200@bios-homehealth.com
SUMMARY:BiosHealth All-Employee Meeting (Bartlesville)
DESCRIPTION:
URL:https://bios-homehealth.com/event/bioshealth-all-employee-meeting-bartlesville-010919/
LOCATION:BiosHealth Office (Bartlesville)\, 1370 Southeast Washington Boulevard\, Bartlesville\, OK\, 74066
CATEGORIES:Meeting
ORGANIZER;CN="Karen Sherrick":MAILTO:ksherrick@bioscorp.com
END:VEVENT
BEGIN:VEVENT
DTSTART;TZID=America/Chicago:20190109T170000
DTEND;TZID=America/Chicago:20190109T170000
DTSTAMP:20260420T084205
CREATED:20181217T045916Z
LAST-MODIFIED:20181218T195850Z
UID:517-1547053200-1547053200@bios-homehealth.com
SUMMARY:BiosHealth All-Employee Meeting (Tulsa)
DESCRIPTION:
URL:https://bios-homehealth.com/event/bioshealth-all-employee-meeting-tulsa-010919/
LOCATION:Glenpool Community Center\, 12205 South Yukon Avenue\, Glenpool\, OK\, 74033
CATEGORIES:Meeting
ORGANIZER;CN="Kendyll Miller":MAILTO:kmiller@bioscorp.com
END:VEVENT
BEGIN:VEVENT
DTSTART;TZID=America/Chicago:20190109T144500
DTEND;TZID=America/Chicago:20190109T144500
DTSTAMP:20260420T084205
CREATED:20181218T172114Z
LAST-MODIFIED:20181218T172114Z
UID:524-1547045100-1547045100@bios-homehealth.com
SUMMARY:Ice Cream Social
DESCRIPTION:Email Karen Sherrick at ksherrick@bioscorp.com for more information.
URL:https://bios-homehealth.com/event/ice-cream-social-010919/
LOCATION:Adams Post Acute Recovery Center (PARC)\, 6006 Southeast Adams Boulevard\, Bartlesville\, OK\, 74006
CATEGORIES:Social Event
ORGANIZER;CN="Karen Sherrick":MAILTO:ksherrick@bioscorp.com
END:VEVENT
BEGIN:VEVENT
DTSTART;TZID=America/Chicago:20190108T120000
DTEND;TZID=America/Chicago:20190108T160000
DTSTAMP:20260420T084205
CREATED:20181217T044832Z
LAST-MODIFIED:20181218T195859Z
UID:512-1546948800-1546963200@bios-homehealth.com
SUMMARY:BiosHealth Weekly Orientation (Bartlesville)
DESCRIPTION:This event takes place every Tuesday at the BiosHealth area offices. Email Audrey Miller at amiller@bioscorp.com for more information.
URL:https://bios-homehealth.com/event/bioshealth-weekly-orientation-bartlesville-010819/
LOCATION:BiosHealth Office (Bartlesville)\, 1370 Southeast Washington Boulevard\, Bartlesville\, OK\, 74066
CATEGORIES:Orientation
ORGANIZER;CN="Audrey Miller":MAILTO:amiller@bioscorp.com
END:VEVENT
BEGIN:VEVENT
DTSTART;TZID=America/Chicago:20190108T120000
DTEND;TZID=America/Chicago:20190108T160000
DTSTAMP:20260420T084205
CREATED:20181217T044010Z
LAST-MODIFIED:20181218T195630Z
UID:507-1546948800-1546963200@bios-homehealth.com
SUMMARY:BiosHealth Weekly Orientation (Tulsa)
DESCRIPTION:This event takes place every Tuesday at the BiosHealth area offices. Email Audrey Miller at amiller@bioscorp.com for more information.
URL:https://bios-homehealth.com/event/bioshealth-weekly-orientation-tulsa-010819/
LOCATION:BiosHealth Office (Tulsa Metro Area)\, 309 East Dewey Avenue\, Sapulpa\, OK\, 74066
CATEGORIES:Orientation
ORGANIZER;CN="Audrey Miller":MAILTO:amiller@bioscorp.com
END:VEVENT
BEGIN:VEVENT
DTSTART;TZID=America/Chicago:20190108T090000
DTEND;TZID=America/Chicago:20190109T160000
DTSTAMP:20260420T084205
CREATED:20181216T043221Z
LAST-MODIFIED:20181218T175411Z
UID:500-1546938000-1547049600@bios-homehealth.com
SUMMARY:2-Day Person-Centered Thinking Class
DESCRIPTION:This event takes place on the second Monday and Tuesday of each month. Email Stacia Ellis at sellis@bioscorp.com to enroll.
URL:https://bios-homehealth.com/event/2-day-person-centered-thinking-class/
LOCATION:BiosHealth Office (Tulsa Metro Area)\, 309 East Dewey Avenue\, Sapulpa\, OK\, 74066
CATEGORIES:Training
ORGANIZER;CN="Stacia Ellis":MAILTO:sellis@bioscorp.com
END:VEVENT
END:VCALENDAR